BEGIN:VCALENDAR
VERSION:2.0
PRODID:-//Maja M Vovk - ECPv6.1.2.2//NONSGML v1.0//EN
CALSCALE:GREGORIAN
METHOD:PUBLISH
X-ORIGINAL-URL:https://www.majavovk.si
X-WR-CALDESC:Events for Maja M Vovk
REFRESH-INTERVAL;VALUE=DURATION:PT1H
X-Robots-Tag:noindex
X-PUBLISHED-TTL:PT1H
BEGIN:VTIMEZONE
TZID:Europe/Paris
BEGIN:DAYLIGHT
TZOFFSETFROM:+0100
TZOFFSETTO:+0200
TZNAME:CEST
DTSTART:20220327T010000
END:DAYLIGHT
BEGIN:STANDARD
TZOFFSETFROM:+0200
TZOFFSETTO:+0100
TZNAME:CET
DTSTART:20221030T010000
END:STANDARD
END:VTIMEZONE
BEGIN:VEVENT
DTSTART;TZID=Europe/Paris:20220210T090000
DTEND;TZID=Europe/Paris:20220213T160000
DTSTAMP:20260426T045439
CREATED:20210921T215542Z
LAST-MODIFIED:20220124T220815Z
UID:2057-1644483600-1644768000@www.majavovk.si
SUMMARY:DELAVNICA SHAMANIC HEART HEALING® l&ll.stopnja
DESCRIPTION:Spomnili se boste\, da imate skrite šamanskega zdravila v sebi. Vzpostavili ponovno povezavo z našim notranjim vodstvom in intuicijo skozi srce in slike.  Uporabili naše svetlobno telo MerKaBo skozi proces zdravljenje. \nPrijave in opis delavnice : https://form.jotform.com/211232061364038 \n  \nAHO MITAKUYE OYASIN \n\n\n\nBLUE SKY -vodi Maja
URL:https://www.majavovk.si/event/druzenje-srcnih-samanov-5/
LOCATION:Ljubljana(točna lokacija pri prijavi)\, Slovenija
CATEGORIES:Dogodek
ATTACH;FMTTYPE=image/jpeg:https://www.majavovk.si/wp-content/uploads/2021/09/SHH-podlaga-1.jpg
ORGANIZER;CN="Maja%20Vovk":MAILTO:maja.vozelj@gmail.com
END:VEVENT
END:VCALENDAR