BEGIN:VCALENDAR
VERSION:2.0
PRODID:-//Maja M Vovk - ECPv6.1.2.2//NONSGML v1.0//EN
CALSCALE:GREGORIAN
METHOD:PUBLISH
X-ORIGINAL-URL:https://www.majavovk.si
X-WR-CALDESC:Events for Maja M Vovk
REFRESH-INTERVAL;VALUE=DURATION:PT1H
X-Robots-Tag:noindex
X-PUBLISHED-TTL:PT1H
BEGIN:VTIMEZONE
TZID:Europe/Paris
BEGIN:DAYLIGHT
TZOFFSETFROM:+0100
TZOFFSETTO:+0200
TZNAME:CEST
DTSTART:20220327T010000
END:DAYLIGHT
BEGIN:STANDARD
TZOFFSETFROM:+0200
TZOFFSETTO:+0100
TZNAME:CET
DTSTART:20221030T010000
END:STANDARD
END:VTIMEZONE
BEGIN:VEVENT
DTSTART;TZID=Europe/Paris:20220417T093000
DTEND;TZID=Europe/Paris:20220417T160000
DTSTAMP:20260425T231845
CREATED:20210921T140550Z
LAST-MODIFIED:20220124T163201Z
UID:1938-1650187800-1650211200@www.majavovk.si
SUMMARY:DRUŽENJE SRČNIH ŠAMANOV in BOBNARSKI KROG
DESCRIPTION:Druženje je namenjeno vsem srčnim šamanom \, ki ste opravili 1. ali 2. ali 3. stopnjo delavnice Srčnega šamanizma. In vsem\, ki si želite imeti svojo prvo izkušnjo šamanskega zdravljenja kot stranka . \n  \nPrijave : https://form.jotform.com/211231624142339 \nNamenjeno je vsem \, ki želite pomagati pri zdravljenju planeta zemlje\, živali\, narave in vseh nas. Samozdravljenje telesa in nastalih toksičnih situacij. \n\nPROGRAM:\n\nKratka obnovitev tehnik in vodenje. \nPrakticiranje šamanskega zdravljenja s srcem 1 na 1. \nEkstrakcija \nAlkimija srca \nSkupinska terapija na daljavo. \nŠamansko potovanje  \nPobiranje delčkov duše in izgubljene energije \nVračanje entitet \nŠamansko bobnanje z gongom in zdravljenje z zvokom \nIn še veliko več kot celosten pristop do klienta….. \nŠamansko zdravljenje naših povabljenih oseb kot klienti\, ki pridejo kasneje ob 14. uri ali po predhodnem dogovoru. \nS sabo prinesete svoje šamansko orodje in pripomočke. \nPoskrbljeno je za prigrizke\, tople napitke in kosilo\, ki ga pripravimo v kuhinji z domačo zelenjavo. \nV času druženja je odprta tudi trgovina\, kjer lahko kupite potrebne pripomočke ali orodja. \nLOKACIJA \nLJUBLJANA- točna lokacija znana ob prijavi \nObvezne PRIJAVE na vprašanja na:\nhttps://form.jotform.com/211231624142339 \nPRISPEVEK \n60 € ali prostovoljni prispevek (klienti). \nVelik objem srčnih šamanov in ljubečih šamank. \nAHO MITAKUYE OYASIN\n\n\nBlue Sky
URL:https://www.majavovk.si/event/druzenje-srcnih-samanov-3/
LOCATION:Ljubljana(točna lokacija pri prijavi)\, Slovenija
CATEGORIES:Dogodek
ATTACH;FMTTYPE=image/jpeg:https://www.majavovk.si/wp-content/uploads/2021/09/1920x1200-Samanizem-scaled.jpg
ORGANIZER;CN="Maja%20Vovk":MAILTO:maja.vozelj@gmail.com
END:VEVENT
END:VCALENDAR