BEGIN:VCALENDAR
VERSION:2.0
PRODID:-//Maja M Vovk - ECPv6.1.2.2//NONSGML v1.0//EN
CALSCALE:GREGORIAN
METHOD:PUBLISH
X-WR-CALNAME:Maja M Vovk
X-ORIGINAL-URL:https://www.majavovk.si
X-WR-CALDESC:Events for Maja M Vovk
REFRESH-INTERVAL;VALUE=DURATION:PT1H
X-Robots-Tag:noindex
X-PUBLISHED-TTL:PT1H
BEGIN:VTIMEZONE
TZID:Europe/Paris
BEGIN:DAYLIGHT
TZOFFSETFROM:+0100
TZOFFSETTO:+0200
TZNAME:CEST
DTSTART:20220327T010000
END:DAYLIGHT
BEGIN:STANDARD
TZOFFSETFROM:+0200
TZOFFSETTO:+0100
TZNAME:CET
DTSTART:20221030T010000
END:STANDARD
END:VTIMEZONE
BEGIN:VEVENT
DTSTART;TZID=Europe/Paris:20220210T090000
DTEND;TZID=Europe/Paris:20220213T160000
DTSTAMP:20260426T030416
CREATED:20210921T215542Z
LAST-MODIFIED:20220124T220815Z
UID:2057-1644483600-1644768000@www.majavovk.si
SUMMARY:DELAVNICA SHAMANIC HEART HEALING® l&ll.stopnja
DESCRIPTION:Spomnili se boste\, da imate skrite šamanskega zdravila v sebi. Vzpostavili ponovno povezavo z našim notranjim vodstvom in intuicijo skozi srce in slike.  Uporabili naše svetlobno telo MerKaBo skozi proces zdravljenje. \nPrijave in opis delavnice : https://form.jotform.com/211232061364038 \n  \nAHO MITAKUYE OYASIN \n\n\n\nBLUE SKY -vodi Maja
URL:https://www.majavovk.si/event/druzenje-srcnih-samanov-5/
LOCATION:Ljubljana(točna lokacija pri prijavi)\, Slovenija
CATEGORIES:Dogodek
ATTACH;FMTTYPE=image/jpeg:https://www.majavovk.si/wp-content/uploads/2021/09/SHH-podlaga-1.jpg
ORGANIZER;CN="Maja%20Vovk":MAILTO:maja.vozelj@gmail.com
END:VEVENT
BEGIN:VEVENT
DTSTART;TZID=Europe/Paris:20220220T093000
DTEND;TZID=Europe/Paris:20220220T160000
DTSTAMP:20260426T030416
CREATED:20210921T163905Z
LAST-MODIFIED:20220124T163310Z
UID:1976-1645349400-1645372800@www.majavovk.si
SUMMARY:DRUŽENJE SRČNIH ŠAMANOV in BOBNARSKI KROG
DESCRIPTION:Druženje je namenjeno vsem srčnim šamanom \, ki ste opravili 1. ali 2. ali 3. stopnjo delavnice Srčnega šamanizma. In vsem\, ki želite imeti svojo prvo izkušnjo šamanskega zdravljenja kot stranka . \n\nPrijave na: https://form.jotform.com/211231624142339\nNamenjeno je vsem \, ki želite pomagati pri zdravljenju planeta zemlje\, živali\, narave in vseh nas. \n\nPROGRAM:\n\n\nKratka obnovitev tehnik in vodenje.\nPrakticiranje šamanskega zdravljenja s srcem 1 na 1.\nEkstrakcija\nAlkimija srca\nSkupinska terapija na daljavo.\nŠamansko potovanje \nPobiranje delčkov duše in izgubljene energije\nVračanje entitet\nŠamansko bobnanje z gongom in zdravljenje z zvokom\nIn še veliko več kot celosten pristop do klienta…..\n\nŠamansko zdravljenje naših povabljenih oseb kot klienti\, ki pridejo kasneje ob 14. uri ali po predhodnem dogovoru. \nS sabo prinesete svoje šamansko orodje in pripomočke. \nPoskrbljeno je za prigrizke\, tople napitke in kosilo\, ki ga pripravimo v kuhinji z domačo zelenjavo. \nV času druženja je odprta tudi trgovina\, kjer lahko kupite potrebne pripomočke ali orodja. \nLOKACIJA \nLJUBLJANA- točna lokacija znana ob prijavi \nObvezne PRIJAVE na vprašanja na:\nhttps://form.jotform.com/211231624142339 \nPRISPEVEK \n60 €  ali  prostovoljni prispevek(klienti). \nVelik objem srčnih šamanov in ljubečih šamank. \nAHO MITAKUYE OYASIN\n\n\nBlue Sky MAJA
URL:https://www.majavovk.si/event/druzenje-srcnih-samanov-4/
LOCATION:Ljubljana(točna lokacija pri prijavi)\, Slovenija
CATEGORIES:Dogodek
ATTACH;FMTTYPE=image/jpeg:https://www.majavovk.si/wp-content/uploads/2021/09/1920x1200-Samanizem-scaled.jpg
ORGANIZER;CN="Maja%20Vovk":MAILTO:maja.vozelj@gmail.com
END:VEVENT
BEGIN:VEVENT
DTSTART;TZID=Europe/Paris:20220223T090000
DTEND;TZID=Europe/Paris:20220225T160000
DTSTAMP:20260426T030416
CREATED:20210921T215809Z
LAST-MODIFIED:20220124T221102Z
UID:2062-1645606800-1645804800@www.majavovk.si
SUMMARY:DELAVNICA SHAMANIC HEART HEALING® lll.stopnja
DESCRIPTION:Spomnili se boste\, da imate skrite šamanskega zdravila v sebi. Vzpostavili ponovno povezavo z našim notranjim vodstvom in intuicijo skozi srce in slike.  Uporabili naše svetlobno telo MerKaBo skozi proces zdravljenje. \nPrijave in opis delavnice : https://form.jotform.com/211232061364038
URL:https://www.majavovk.si/event/delavnica-shamanic-heart-healing/
LOCATION:Ljubljana(točna lokacija pri prijavi)\, Slovenija
CATEGORIES:Dogodek
ATTACH;FMTTYPE=image/jpeg:https://www.majavovk.si/wp-content/uploads/2021/09/SHH-podlaga-1.jpg
ORGANIZER;CN="Maja%20Vovk":MAILTO:maja.vozelj@gmail.com
END:VEVENT
BEGIN:VEVENT
DTSTART;TZID=Europe/Paris:20220226T090000
DTEND;TZID=Europe/Paris:20220227T160000
DTSTAMP:20260426T030416
CREATED:20220124T221403Z
LAST-MODIFIED:20220124T221412Z
UID:3174-1645866000-1645977600@www.majavovk.si
SUMMARY:DELAVNICA SHAMANIC HEART HEALING® lV.stopnja
DESCRIPTION:Spomnili se boste\, da imate skrite šamanskega zdravila v sebi. Vzpostavili ponovno povezavo z našim notranjim vodstvom in intuicijo skozi srce in slike.  Uporabili naše svetlobno telo MerKaBo skozi proces zdravljenje. \nPrijave in opis delavnice : https://form.jotform.com/211232061364038
URL:https://www.majavovk.si/event/delavnica-shamanic-heart-healing-lv-stopnja/
LOCATION:Ljubljana(točna lokacija pri prijavi)\, Slovenija
CATEGORIES:Dogodek
ATTACH;FMTTYPE=image/jpeg:https://www.majavovk.si/wp-content/uploads/2021/09/SHH-podlaga-1.jpg
ORGANIZER;CN="Maja%20Vovk":MAILTO:maja.vozelj@gmail.com
END:VEVENT
END:VCALENDAR